Workbook
Name ____________A50: [1]Пер!$N$34
Name ____________A50: [1]Пер!$N$34
Name ____________A51: [1]Пер!$N$33
Name ____________A51: [1]Пер!$N$33
Name ____________HAV80: #REF!
Name ____________mes09: #REF!
Name ____________Mes1: #REF!
Name ____________Mes2: #REF!
Name ____________NS80: #REF!
Name ____________PCH3: #REF!
Name ____________PV3: #REF!
Name ___________A50: [2]Пер!$N$34
Name ___________A51: [2]Пер!$N$33
Name ___________HAV80: #REF!
Name ___________mes09: #REF!
Name ___________Mes1: #REF!
Name ___________Mes2: #REF!
Name ___________NS80: #REF!
Name ___________PCH3: #REF!
Name ___________PV3: #REF!
Name __________A50: [2]Пер!$N$34
Name __________A51: [2]Пер!$N$33
Name __________HAV80: #REF!
Name __________mes09: #REF!
Name __________Mes1: #REF!
Name __________Mes2: #REF!
Name __________NS80: #REF!
Name __________PCH3: #REF!
Name __________PV3: #REF!
Name _________A50: [2]Пер!$N$34
Name _________A51: [2]Пер!$N$33
Name _________HAV80: #REF!
Name _________mes09: #REF!
Name _________Mes1: #REF!
Name _________Mes2: #REF!
Name _________NS80: #REF!
Name _________PCH3: #REF!
Name _________PV3: #REF!
Name ________A50: [2]Пер!$N$34
Name ________A51: [2]Пер!$N$33
Name ________HAV80: #REF!
Name ________mes09: #REF!
Name ________Mes1: #REF!
Name ________Mes2: #REF!
Name ________NS80: #REF!
Name ________PCH3: #REF!
Name ________PV3: #REF!
Name _______A50: [2]Пер!$N$34
Name _______A51: [2]Пер!$N$33
Name _______HAV80: #REF!
Name _______mes09: #REF!
Name _______Mes1: #REF!
Name _______Mes2: #REF!
Name _______NS80: #REF!
Name _______PCH3: #REF!
Name _______PV3: #REF!
Name ______A50: [2]Пер!$N$34
Name ______A51: [2]Пер!$N$33
Name ______HAV80: #REF!
Name ______mes09: #REF!

Sheet Дод 1 доходи
E1: Додаток 1
E2: до розпорядження
E3: 16.10.2026 №734
A5: Зміни до обсягу доходів обласного бюджету на 2026 рік
A6: 0710000000
A7: (код бюджету)
F8: (грн)
A9: Код | B9: Найменування згідно з Класифікацією доходів бюджету | C9: Усього | D9: Загальний фонд | E9: Спеціальний фонд
E10: усього | F10: у тому числі бюджет розвитку
A12: 1 | B12: 2 | C12: 3 | D12: 4 | E12: 5 | F12: 6
A13: 10000000 | B13: Податкові надходження | C13: =C14+C18+C21 -> 22379000 | D13: =D14+D18+D21 -> 21579000 | E13: =E14+E18+E21 -> 800000 | F13: =F14+F18+F21 -> 0
A14: 11000000 | B14: Податки на доходи, податки на прибуток, податки на збільшення ринкової вартості | C14: =C15 -> 15848000 | D14: =D15 -> 15848000 | E14: =E15 -> 0 | F14: =F15 -> 0
A15: 11010000 | B15: Податок та збір на доходи фізичних осіб | C15: =C16+C17 -> 15848000 | D15: =D16+D17 -> 15848000 | E15: =E16+E17 -> 0 | F15: =F16+F17 -> 0
A16: 11010100 | B16: Податок на доходи фізичних осіб, що сплачується податковими агентами, із доходів платника податку у вигляді заробітної плати | C16: =D16+E16 -> 13700000 | D16: 13700000
A17: 11010400 | B17: Податок на доходи фізичних осіб, що сплачується податковими агентами, із доходів платника податку інших ніж заробітна плата | C17: =D17+E17 -> 2148000 | D17: 2148000
A18: 13000000 | B18: Рентна плата та плата за використання інших природних ресурсів | C18: =C19 -> 5731000 | D18: =D19 -> 5731000 | E18: =E19 -> 0 | F18: =F19 -> 0
A19: 13030000 | B19: Рентна плата за користування надрами загальнодержавного значення | C19: =SUM(C20:C20) -> 5731000 | D19: =SUM(D20:D20) -> 5731000 | E19: =SUM(E20:E20) -> 0 | F19: =SUM(F20:F20) -> 0
A20: 13030100 | B20: Рентна плата за користування надрами для видобування інших корисних копалин загальнодержавного значення (крім видобування корисних копалин, визначених як Активи природних ресурсів) | C20: =D20+E20 -> 5731000 | D20: 5731000
A21: 19000000 | B21: Інші податки та збори | C21: =C22 -> 800000 | D21: =D22 -> 0 | E21: =E22 -> 800000 | F21: =F22 -> 0
A22: 19010000 | B22: Екологічний податок | C22: =C23 -> 800000 | D22: =D23 -> 0 | E22: =E23 -> 800000 | F22: =F23 -> 0
A23: 19010300 | B23: Надходження від розміщення відходів у спеціально відведених для цього місцях чи на об`єктах, крім розміщення окремих видів відходів як вторинної сировини | C23: =D23+E23 -> 800000 | E23: 800000
A24: 20000000 | B24: Неподаткові надходження | C24: =C25+C30 -> 9521000 | D24: =D25+D30 -> 4321000 | E24: =E25+E30 -> 5200000 | F24: =F25+F30 -> 0
A25: 22000000 | B25: Адміністративні збори та платежі, доходи від некомерційної господарської діяльності | C25: =C26+C28 -> 4321000 | D25: =D26+D28 -> 4321000 | E25: =E26+E28 -> 0 | F25: =F26+F28 -> 0
A26: 22010000 | B26: Плата за надання адміністративних послуг | C26: =C27 -> 2050000 | D26: =D27 -> 2050000 | E26: =E27 -> 0 | F26: =F27 -> 0
A27: 22011100 | B27: Плата за ліцензії на право роздрібної торгівлі алкогольними напоями, сидром та перрі (без додавання спирту), тютюновими виробами та рідинами, що використовуються в електронних сигаретах | C27: =D27+E27 -> 2050000 | D27: 2050000
A28: 22080000 | B28: Надходження від орендної плати за користування єдиним майновим комплексом та іншим державним майном | C28: =C29 -> 2271000 | D28: =D29 -> 2271000 | E28: =E29 -> 0 | F28: =F29 -> 0
A29: 22080400 | B29: Надходження від орендної плати за користування майновим комплексом та іншим майном, що перебуває в комунальній власності | C29: =D29+E29 -> 2271000 | D29: 2271000
A30: 24000000 | B30: Інші неподаткові надходження | C30: =C31 -> 5200000 | D30: =D31 -> 0 | E30: =E31 -> 5200000 | F30: =F31 -> 0
A31: 24062100 | B31: Грошові стягнення за шкоду, заподіяну порушенням законодавства про охорону навколишнього природного середовища внаслідок господарської та іншої діяльності | C31: =D31+E31 -> 5200000 | E31: 5200000
B32: Усього доходів (без урахування міжбюджетних трансфертів) | C32: =C13+C24 -> 31900000 | D32: =D13+D24 -> 25900000 | E32: =E13+E24 -> 6000000 | F32: =F13+F24 -> 0
A33: 40000000 | B33: Офіційні трансферти | C33: =C34 -> 91659488 | D33: =D34 -> 84959488 | E33: =E34 -> 6000000 | F33: =F34 -> 6000000
A34: 41000000 | B34: Від органів державного управління | C34: =C35+C40+C38 -> 91659488 | D34: =D35+D40 -> 84959488 | E34: =E35+E40 -> 6000000 | F34: =F35+F40 -> 6000000
A35: 41030000 | B35: Субвенції з державного бюджету місцевим бюджетам | C35: =C37+C36 -> 84859488 | D35: =D37+D36 -> 84859488 | E35: =E37+E36 -> 0 | F35: =F37+F36 -> 0
A36: 41032300 | B36: Субвенція з державного бюджету місцевим бюджетам на формування фондів житла для тимчасового проживання або підтриманого проживання евакуйованих та внутрішньо переміщених осіб і заходів щодо забезпечення їх житлом у сільській місцевості | C36: =D36+E36 -> 85497488 | D36: 85497488
A37: 41036300 | B37: Субвенція з державного бюджету місцевим бюджетам на здійснення доплат педагогічним працівникам закладів загальної середньої освіти | C37: =D37+E37 -> -638000 | D37: ='дод.5 трансф'!D12 -> -638000
A38: 41040000 | B38: Дотації з місцевих бюджетів іншим місцевим бюджетам | C38: =C39 -> 700000 | D38: =D39 -> 700000 | E38: =E39 -> 0 | F38: =F39 -> 0
A39: 41040400 | B39: Інші дотації з місцевого бюджету | C39: =D39+E39 -> 700000 | D39: 700000
A40: 41050000 | B40: Субвенції з місцевих бюджетів іншим місцевим бюджетам | C40: =C41+C42 -> 6100000 | D40: =D41+D42 -> 100000 | E40: =E41+E42 -> 6000000 | F40: =F41+F42 -> 6000000
A41: 41053400 | B41: Субвенція з місцевого бюджету на підготовку та реалізацію публічних інвестиційних проектів / програм публічних інвестицій | C41: =D41+E41 -> 6000000 | E41: ='дод.5 трансф'!D19 -> 6000000 | F41: =E41 -> 6000000
A42: 41053900 | B42: Інші субвенції з місцевого бюджету | C42: =D42+E42 -> 100000 | D42: ='дод.5 трансф'!D16 -> 100000
...

Sheet дод 2 джерела
E1: Додаток 2
E2: до розпорядження
E3: 16.10.2026 №734
A4: Зміни до фінансування обласного бюджету на 2026 рік
B5: 0710000000 (код бюджету)
F6: грн.
A7: Код | B7: Найменування згідно з Класифікацією фінансування бюджету | C7: Усього | D7: Загальний фонд | E7: Спеціальний фонд
E8: Усього | F8: у тому числі бюджет розвитку
A9: 1 | B9: 2 | C9: 3 | D9: 4 | E9: 5 | F9: 6
B10: Фінансування за типом кредитора
A11: 200000 | B11: Внутрішнє фінансування | C11: =C12 -> 0 | D11: =D12 -> 16137368 | E11: =E12 -> -16137368 | F11: =F12 -> -10137368
A12: 208000 | B12: Фінансування за рахунок зміни залишків коштів бюджетів | C12: =C13-C14+C16+C15 -> 0 | D12: =D13-D14+D16+D15 -> 16137368 | E12: =E13-E14+E16+E15 -> -16137368 | F12: =F13-F14+F16+F15 -> -10137368
A13: 208100 | B13: На початок періоду | C13: =D13+E13 -> 10334976 | D13: 10000053 | E13: 334922.26 | F13: 58.16
A14: 208200 | B14: На кінець періоду | C14: =D14+E14 -> 10334976 | D14: 10000053 | E14: =20434922.26-20100000 -> 334922.26 | F14: 58.16
A15: 208320 | B15: Передача коштів із спеціального до загального фонду бюджету | D15: 6000000 | E15: -6000000
A16: 208400 | B16: Кошти, що передаються із загального фонду бюджету до бюджету розвитку (спеціального фонду) | C16: =D16+E16 -> 0 | D16: 10137368 | E16: -10137368 | F16: -10137368
A17: 600000 | B17: Фінансування за активними операціями | C17: =C18 -> 0 | D17: =D18 -> 16137368 | E17: =E18 -> -16137368 | F17: =F18 -> -10137368
A18: 602000 | B18: Зміни обсягів готівкових коштів | C18: =C12 -> 0 | D18: =D12 -> 16137368 | E18: =E12 -> -16137368 | F18: =F12 -> -10137368
A19: 602100 | B19: На початок періоду | C19: =C13 -> 10334976 | D19: =D13 -> 10000053 | E19: =E13 -> 334922.26 | F19: =F13 -> 58.16
A20: 602200 | B20: На кінець періоду | C20: =C14 -> 10334976 | D20: =D14 -> 10000053 | E20: =E14 -> 334922.26 | F20: =F14 -> 58.16
A21: 602302 | B21: Передача коштів із спеціального до загального фонду бюджету | C21: =C15 -> 0 | D21: =D15 -> 6000000 | E21: =E15 -> -6000000 | F21: =F15 -> 0
A22: 602400 | B22: Кошти, що передаються із загального фонду бюджету до бюджету розвитку (спеціального фонду) | C22: =C16 -> 0 | D22: =D16 -> 10137368 | E22: =E16 -> -10137368 | F22: =F16 -> -10137368
A23: Директор департаменту фінансів Закарпатської обласної державної адміністрації - обласної військової адміністрації | E23: Петро ЛАЗАР

Sheet дод.3 
O1: Додаток 3
O2: до розпорядження
O3: 16.10.2026 №734
A4: Зміни до додатка 3 розпорядження голови обласної державної адміністрації-начальника обласної військової адміністрації від 18.12.2025 № 878 „Про обласний бюджет на 2026 рік” – „Розподіл видатків обласного бюджету на 2026 рік”
B5: 0710000000 (код бюджету)
P6: грн.
A7: Код Програмної класифікації видатків та кредитування місцевого бюджету | B7: Код Типової програмної класифікації видатків та кредиту- вання місцевого бюджету | C7: Код Функціональ- ної класифікації видатків та кредитування бюджету | D7: Найменування головного розпорядника коштів місцевого бюджету/відповідального виконавця, найменування бюджетної програми згідно з Типовою програмною класифікацією видатків та кредитування місцевого бюджету | E7: Загальний фонд | J7: Спеціальний фонд | P7: Разом
E8: усього | F8: видатки споживання | G8: з них | I8: видатки розвитку | J8: усього | K8: у тому числі бюджет розвитку | L8: видатки споживання | M8: з них | O8: видатки розвитку
G9: оплата праці | H9: комунальні послуги та енергоносії | M9: оплата праці | N9: комунальні послуги та енергоносії
A11: 1 | B11: 2 | C11: 3 | D11: 4 | E11: 5 | F11: 6 | G11: 7 | H11: 8 | I11: 9 | J11: 10 | K11: 11 | L11: 12 | M11: 13 | N11: 14 | O11: 15 | P11: 16
A12: 0100000 | D12: Закарпатська обласна рада | E12: 1.2052137e+08 | F12: 108839100 | G12: 55657000 | H12: 2324800 | I12: 11682270 | J12: 2.3599371e+08 | K12: 2.3144371e+08 | L12: 4550000 | M12: 1700000 | N12: 1776000 | O12: 2.3144371e+08 | P12: 3.5651508e+08
A13: 0110000 | D13: Закарпатська обласна рада | E13: 54293000 | F13: 53518000 | G13: 33657000 | H13: 1240400 | I13: 775000 | J13: 0 | K13: 0 | L13: 0 | M13: 0 | N13: 0 | O13: 0 | P13: 54293000
A14: 0110180 | B14: 0180 | C14: 0133 | D14: Інша діяльність у сфері державного управління | E14: 950000 | F14: 950000 | G14: 0 | H14: 0 | I14: 0 | J14: 0 | K14: 0 | L14: 0 | M14: 0 | N14: 0 | O14: 0 | P14: 950000
A15: 0117630 | B15: 7630 | C15: 0470 | D15: Реалізація програм і заходів в галузі зовнішньоекономічної діяльності | E15: 2300000 | F15: 2300000 | G15: 0 | H15: 0 | I15: 0 | J15: 0 | K15: 0 | L15: 0 | M15: 0 | N15: 0 | O15: 0 | P15: 2300000
A16: 0120000 | D16: Комунальна установа"Управління спільною власністю територіальних громад" Закарпатської обласної ради | E16: 66228370 | F16: 55321100 | G16: 22000000 | H16: 1084400 | I16: 10907270 | J16: 2.3599371e+08 | K16: 2.3144371e+08 | L16: 4550000 | M16: 1700000 | N16: 1776000 | O16: 2.3144371e+08 | P16: 3.0222208e+08
A17: 0120180 | B17: 0180 | C17: 0133 | D17: Інша діяльність у сфері державного управління | E17: 66203370 | F17: 55296100 | G17: 22000000 | H17: 1084400 | I17: 10907270 | J17: 4550000 | K17: 0 | L17: 4550000 | M17: 1700000 | N17: 1776000 | O17: 0 | P17: 70753370
A18: 0121300 | B18: 1300 | C18: 0990 | D18: Підготовка та реалізація публічних інвестиційних проектів / програм публічних інвестицій за рахунок коштів місцевого бюджету в галузі освіти | E18: 0 | F18: 0 | G18: 0 | H18: 0 | I18: 0 | J18: 184726300 | K18: 184726300 | L18: 0 | M18: 0 | N18: 0 | O18: 184726300 | P18: 184726300
A19: 0200000 | D19: Закарпатська обласна державна адміністрація | E19: 37506700 | F19: 35097900 | G19: 9092600 | H19: 83800 | I19: 2408800 | J19: 2200000 | K19: 0 | L19: 2200000 | M19: 0 | N19: 692000 | O19: 0 | P19: 39706700
A20: 0210000 | D20: Закарпатська обласна державна адміністрація | E20: 37506700 | F20: 35097900 | G20: 9092600 | H20: 83800 | I20: 2408800 | J20: 2200000 | K20: 0 | L20: 2200000 | M20: 0 | N20: 692000 | O20: 0 | P20: 39706700
A21: 0210180 | B21: 0180 | C21: 0133 | D21: Інша діяльність у сфері державного управління | E21: 2002000 | F21: 2002000 | G21: 1350000 | H21: 83800 | I21: 0 | J21: 0 | K21: 0 | L21: 0 | M21: 0 | N21: 0 | O21: 0 | P21: 2002000
A22: 0211142 | B22: 1142 | C22: 0990 | D22: Інші програми та заходи у сфері освіти | E22: 0 | F22: 0 | G22: 0 | H22: 0 | I22: 0 | J22: 0 | K22: 0 | L22: 0 | M22: 0 | N22: 0 | O22: 0 | P22: 0
A23: 0219800 | B23: 9800 | C23: 0180 | D23: Субвенція з місцевого бюджету державному бюджету на виконання програм соціально-економічного розвитку регіонів | E23: 16677100 | F23: 15777100 | G23: 0 | H23: 0 | I23: 900000 | J23: 0 | K23: 0 | L23: 0 | M23: 0 | N23: 0 | O23: 0 | P23: 16677100
A24: 0600000 | D24: Департамент освіти і науки, молоді та спорту Закарпатської обласної державної адміністрації | E24: 1.6218453e+09 | F24: 1.5096176e+09 | G24: 525930480 | H24: 79119630 | I24: 112227712 | J24: 243718749 | K24: 177959049 | L24: 34788802 | M24: 9466700 | N24: 5911100 | O24: 208929947 | P24: 1.865564e+09
A25: 0610000 | D25: Департамент освіти і науки, молоді та спорту Закарпатської обласної державної адміністрації | E25: 1.6218453e+09 | F25: 1.5096176e+09 | G25: 525930480 | H25: 79119630 | I25: 112227712 | J25: 243718749 | K25: 177959049 | L25: 34788802 | M25: 9466700 | N25: 5911100 | O25: 208929947 | P25: 1.865564e+09
A26: 0611022 | B26: 1022 | C26: 0922 | D26: Надання загальної середньої освіти спеціальними закладами загальної середньої освіти для осіб з особливими освітніми потребами, зумовленими порушеннями інтелектуального розвитку, фізичними та/або сенсорними порушеннями, за рахунок коштів місцевого бюджету | E26: 55081600 | F26: 54390500 | G26: 27118900 | H26: 10271200 | I26: 691100 | J26: 2000 | K26: 0 | L26: 2000 | M26: 0 | N26: 0 | O26: 0 | P26: 55083600
A27: 0611023 | B27: 1023 | C27: 0922 | D27: Надання загальної середньої освіти спеціалізованими закладами загальної середньої освіти за рахунок коштів місцевого бюджету | E27: 80821000 | F27: 78071000 | G27: 29210600 | H27: 13998800 | I27: 2750000 | J27: 2000 | K27: 0 | L27: 2000 | M27: 0 | N27: 0 | O27: 0 | P27: 80823000
A28: 0611024 | B28: 1024 | C28: 0910 | D28: Забезпечення належних умов для виховання та розвитку дітей-сиріт і дітей, позбавлених батьківського піклування, в дитячих будинках за рахунок коштів місцевого бюджету | E28: 27117400 | F28: 25535400 | G28: 11414270 | H28: 4423400 | I28: 1582000 | J28: 0 | K28: 0 | L28: 0 | M28: 0 | N28: 0 | O28: 0 | P28: 27117400
A29: 0611091 | B29: 1091 | C29: 0930 | D29: Підготовка кадрів закладами професійної освіти та іншими закладами освіти за рахунок коштів місцевого бюджету | E29: 363076929 | F29: 361762800 | G29: 193466800 | H29: 36175730 | I29: 1314129 | J29: 23371300 | K29: 0 | L29: 17416300 | M29: 3950700 | N29: 3892800 | O29: 5955000 | P29: 386448229
A30: 0611141 | B30: 1141 | C30: 0990 | D30: Забезпечення діяльності інших закладів у сфері освіти | E30: 3961500 | F30: 3961500 | G30: 3105500 | H30: 0 | I30: 0 | J30: 0 | K30: 0 | L30: 0 | M30: 0 | N30: 0 | O30: 0 | P30: 3961500
A31: 0611251 | B31: 1251 | C31: 0990 | D31: Співфінансування заходів, що реалізуються за рахунок субвенції з державного бюджету місцевим бюджетам на реалізацію публічного інвестиційного проекту на безперешкодний доступ до якісної освіти - шкільні автобуси | E31: 0 | F31: 0 | G31: 0 | H31: 0 | I31: 0 | J31: 10168000 | K31: 10168000 | L31: 0 | M31: 0 | N31: 0 | O31: 10168000 | P31: 10168000
A32: 0611300 | B32: 1300 | C32: 0990 | D32: Підготовка та реалізація публічних інвестиційних проектів / програм публічних інвестицій за рахунок коштів місцевого бюджету в галузі освіти | E32: 0 | F32: 0 | G32: 0 | H32: 0 | I32: 0 | J32: 32797816 | K32: 32797816 | L32: 0 | M32: 0 | N32: 0 | O32: 32797816 | P32: 32797816
A33: 0611600 | B33: 1600 | C33: 0990 | D33: Здійснення доплат педагогічним працівникам закладів загальної середньої освіти за рахунок субвенції з державного бюджету місцевим бюджетам | E33: 5712500 | F33: 5712500 | G33: 4723910 | H33: 0 | I33: 0 | J33: 0 | K33: 0 | L33: 0 | M33: 0 | N33: 0 | O33: 0 | P33: 5712500
A34: 0613133 | B34: 3133 | C34: 1040 | D34: Забезпечення молодіжними центрами соціального становлення та розвитку молоді та інші заходи у сфері молодіжної політики | E34: 3061400 | F34: 2961400 | G34: 2150000 | H34: 32400 | I34: 100000 | J34: 0 | K34: 0 | L34: 0 | M34: 0 | N34: 0 | O34: 0 | P34: 3061400
A35: 0615031 | B35: 5031 | C35: 0810 | D35: Розвиток здібностей у дітей та молоді з фізичної культури та спорту комунальними дитячо- юнацькими спортивними школами | E35: 39651100 | F35: 39031100 | G35: 18868200 | H35: 3469900 | I35: 620000 | J35: 100000 | K35: 0 | L35: 100000 | M35: 0 | N35: 0 | O35: 0 | P35: 39751100
A36: 0615032 | B36: 5032 | C36: 0810 | D36: Фінансова підтримка дитячо-юнацьких спортивних шкіл фізкультурно-спортивних товариств | E36: 46903300 | F36: 46503300 | G36: 0 | H36: 0 | I36: 400000 | J36: 0 | K36: 0 | L36: 0 | M36: 0 | N36: 0 | O36: 0 | P36: 46903300
A37: 0619800 | B37: 9800 | C37: 0180 | D37: Субвенція з місцевого бюджету державному бюджету на виконання програм соціально-економічного розвитку регіонів | E37: 2704700 | F37: 2604700 | G37: 0 | H37: 0 | I37: 100000 | J37: 0 | K37: 0 | L37: 0 | M37: 0 | N37: 0 | O37: 0 | P37: 2704700
A38: 0700000 | D38: Департамент охорони здоров`я Закарпатської обласної державної адміністрації | E38: 317223700 | F38: 297351500 | G38: 3498900 | H38: 56500 | I38: 19872200 | J38: 110928000 | K38: 95521400 | L38: 15406600 | M38: 0 | N38: 0 | O38: 95521400 | P38: 428151700
A39: 0710000 | D39: Департамент охорони здоров'я Закарпатської обласної державної адміністрації | E39: 317223700 | F39: 297351500 | G39: 3498900 | H39: 56500 | I39: 19872200 | J39: 110928000 | K39: 95521400 | L39: 15406600 | M39: 0 | N39: 0 | O39: 95521400 | P39: 428151700
A40: 0712010 | B40: 2010 | C40: 0731 | D40: Багатопрофільна стаціонарна медична допомога населенню | E40: 51692350 | F40: 50522150 | G40: 0 | H40: 0 | I40: 1170200 | J40: 0 | K40: 0 | L40: 0 | M40: 0 | N40: 0 | O40: 0 | P40: 51692350
A41: 0712020 | B41: 2020 | C41: 0732 | D41: Спеціалізована стаціонарна медична допомога населенню | E41: 105543560 | F41: 98893560 | G41: 0 | H41: 0 | I41: 6650000 | J41: 0 | K41: 0 | L41: 0 | M41: 0 | N41: 0 | O41: 0 | P41: 105543560
...

Sheet дод 3.1
O1: Додаток 3.1
O2: до розпорядження
O3: 16.10.2026 №734
A5: ЗМІНИ ДО РОЗПОДІЛУ витрат обласного бюджету на 2026 рік у межах змін обсягу доходів та видатків
C6: 0710000000 (код бюджету)
P8: грн.
A9: Код Програмної класифікації видатків та кредитування місцевого бюджету | B9: Код Типової програмної класифікації видатків та кредиту- вання місцевого бюджету | C9: Код Функціональ- ної класифікації видатків та кредитування бюджету | D9: Найменування головного розпорядника коштів місцевого бюджету / відповідального виконавця, найменування бюджетної програми згідно з Типовою програмною класифікацією видатків та кредитування місцевих бюджетів | E9: Загальний фонд | J9: Спеціальний фонд | P9: Разом
E10: усього | F10: видатки споживання | G10: з них | I10: видатки розвитку | J10: усього | K10: у тому числі | L10: видатки споживання | M10: з них | O10: видатки розвитку
G11: оплата праці | H11: комунальні послуги та енергоносії | K11: бюджет розвитку | M11: оплата праці | N11: комунальні послуги та енергоносії
A13: Зміни до розподілу витрат обласного бюджету на 2026 рік за головними розпорядниками коштів, в розрізі джерел коштів:
A14: І. У межах змін обсягу доходів за рахунок | E14: =E15+E74+E81+E85+E89 -> 117559488 | F14: =F15+F74+F81+F85+F89 -> 17962300 | G14: =G15+G74+G81+G85+G89 -> 9928610 | H14: =H15+H74+H81+H85+H89 -> 0 | I14: =I15+I74+I81+I85+I89 -> 99597188 | J14: =J15+J74+J81+J85+J89 -> 6000000 | K14: =K15+K74+K81+K85+K89 -> 6000000 | L14: =L15+L74+L81+L85+L89 -> 0 | ... P14: =P15+P74+P81+P85+P89 -> 123559488 | Q14: ='Дод 1 доходи'!C43-'дод 3.1'!P14 -> 0
A15: І.І перевиконання дохідної частини загального та спеціального фондів обласного бюджету, у тому числі екологічних надходжень | E15: =E16+E19+E22+E25+E28+E31+E34+E37+E40+E43+E46+E49+E52+E55+E58+E61+E64+E67+E71 -> 31900000 | F15: =F16+F19+F22+F25+F28+F31+F34+F37+F40+F43+F46+F49+F52+F55+F58+F61+F64+F67+F71 -> 17800300 | G15: =G16+G19+G22+G25+G28+G31+G34+G37+G40+G43+G46+G49+G52+G55+G58+G61+G64+G67+G71 -> 0 | H15: =H16+H19+H22+H25+H28+H31+H34+H37+H40+H43+H46+H49+H52+H55+H58+H61+H64+H67+H71 -> 0 | I15: =I16+I19+I22+I25+I28+I31+I34+I37+I40+I43+I46+I49+I52+I55+I58+I61+I64+I67+I71 -> 14099700 | J15: =J16+J19+J22+J25+J28+J31+J34+J37+J40+J43+J46+J49+J52+J55+J58+J61+J64+J67+J71 -> 0 | K15: =K16+K19+K22+K25+K28+K31+K34+K37+K40+K43+K46+K49+K52+K55+K58+K61+K64+K67+K71 -> 0 | L15: =L16+L19+L22+L25+L28+L31+L34+L37+L40+L43+L46+L49+L52+L55+L58+L61+L64+L67+L71 -> 0 | ... P15: =P16+P19+P22+P25+P28+P31+P34+P37+P40+P43+P46+P49+P52+P55+P58+P61+P64+P67+P71 -> 31900000
A16: 0200000 | D16: Закарпатська обласна державна адмiнiстрацiя | E16: =E17 -> 2489700 | F16: =F17 -> 2489700 | G16: =G17 -> 0 | H16: =H17 -> 0 | I16: =I17 -> 0 | J16: =J17 -> 0 | K16: =K17 -> 0 | L16: =L17 -> 0 | ... P16: =P17 -> 2489700
A17: 0210000 | D17: Закарпатська обласна державна адмiнiстрацiя | E17: =SUM(E18:E18) -> 2489700 | F17: =SUM(F18:F18) -> 2489700 | G17: =SUM(G18:G18) -> 0 | H17: =SUM(H18:H18) -> 0 | I17: =SUM(I18:I18) -> 0 | J17: =SUM(J18:J18) -> 0 | K17: =SUM(K18:K18) -> 0 | L17: =SUM(L18:L18) -> 0 | ... P17: =SUM(P18:P18) -> 2489700
A18: 0219800 | B18: 9800 | C18: 0180 | D18: Субвенція з місцевого бюджету державному бюджету на виконання програм соціально-економічного розвитку регіонів | E18: =F18+I18 -> 2489700 | F18: =1922100+51200+432200+84200 -> 2489700 | J18: =L18+O18 -> 0 | P18: =E18+J18 -> 2489700
A19: 0600000 | D19: Департамент освіти і науки, молоді та спорту Закарпатської обласної державної адміністрації | E19: =E20 -> 563900 | F19: =F20 -> 563900 | G19: =G20 -> 0 | H19: =H20 -> 0 | I19: =I20 -> 0 | J19: =J20 -> 0 | K19: =K20 -> 0 | L19: =L20 -> 0 | ... P19: =P20 -> 563900
A20: 0610000 | D20: Департамент освіти і науки, молоді та спорту Закарпатської обласної державної адміністрації | E20: =SUM(E21:E21) -> 563900 | F20: =SUM(F21:F21) -> 563900 | G20: =SUM(G21:G21) -> 0 | H20: =SUM(H21:H21) -> 0 | I20: =SUM(I21:I21) -> 0 | J20: =SUM(J21:J21) -> 0 | K20: =SUM(K21:K21) -> 0 | L20: =SUM(L21:L21) -> 0 | ... P20: =SUM(P21:P21) -> 563900
A21: 0619800 | B21: 9800 | C21: 0180 | D21: Субвенція з місцевого бюджету державному бюджету на виконання програм соціально-економічного розвитку регіонів | E21: =F21+I21 -> 563900 | F21: 563900 | J21: =L21+O21 -> 0 | P21: =E21+J21 -> 563900
A22: 0700000 | D22: Департамент охорони здоров'я Закарпатської обласної державної адмiнiстрацiї | E22: =E23 -> 550700 | F22: =F23 -> 550700 | G22: =G23 -> 0 | H22: =H23 -> 0 | I22: =I23 -> 0 | J22: =J23 -> 0 | K22: =K23 -> 0 | L22: =L23 -> 0 | ... P22: =P23 -> 550700
A23: 0710000 | D23: Департамент охорони здоров'я Закарпатської обласної державної адмiнiстрацiї | E23: =SUM(E24:E24) -> 550700 | F23: =SUM(F24:F24) -> 550700 | G23: =SUM(G24:G24) -> 0 | H23: =SUM(H24:H24) -> 0 | I23: =SUM(I24:I24) -> 0 | J23: =SUM(J24:J24) -> 0 | K23: =SUM(K24:K24) -> 0 | L23: =SUM(L24:L24) -> 0 | ... P23: =SUM(P24:P24) -> 550700
A24: 0719800 | B24: 9800 | C24: 0180 | D24: Субвенція з місцевого бюджету державному бюджету на виконання програм соціально-економічного розвитку регіонів | E24: =F24+I24 -> 550700 | F24: 550700 | J24: =L24+O24 -> 0 | P24: =E24+J24 -> 550700
A25: 0800000 | D25: Департамент соціального захисту населення Закарпатської обласної державної адміністрації | E25: =E26 -> 615200 | F25: =F26 -> 615200 | G25: =G26 -> 0 | H25: =H26 -> 0 | I25: =I26 -> 0 | J25: =J26 -> 0 | K25: =K26 -> 0 | L25: =L26 -> 0 | ... P25: =P26 -> 615200
A26: 0810000 | D26: Департамент соціального захисту населення Закарпатської обласної державної адміністрації | E26: =SUM(E27:E27) -> 615200 | F26: =SUM(F27:F27) -> 615200 | G26: =SUM(G27:G27) -> 0 | H26: =SUM(H27:H27) -> 0 | I26: =SUM(I27:I27) -> 0 | J26: =SUM(J27:J27) -> 0 | K26: =SUM(K27:K27) -> 0 | L26: =SUM(L27:L27) -> 0 | ... P26: =SUM(P27:P27) -> 615200
A27: 0819800 | B27: 9800 | C27: 0180 | D27: Субвенція з місцевого бюджету державному бюджету на виконання програм соціально-економічного розвитку регіонів | E27: =F27+I27 -> 615200 | F27: 615200 | J27: =L27+O27 -> 0 | P27: =E27+J27 -> 615200
A28: 0900000 | D28: Служба у справах дiтей Закарпатської обласної державної адмiнiстрацiї | E28: =E29 -> 241100 | F28: =F29 -> 241100 | G28: =G29 -> 0 | H28: =H29 -> 0 | I28: =I29 -> 0 | J28: =J29 -> 0 | K28: =K29 -> 0 | L28: =L29 -> 0 | ... P28: =P29 -> 241100
A29: 0910000 | D29: Служба у справах дiтей Закарпатської обласної державної адмiнiстрацiї | E29: =SUM(E30:E30) -> 241100 | F29: =SUM(F30:F30) -> 241100 | G29: =SUM(G30:G30) -> 0 | H29: =SUM(H30:H30) -> 0 | I29: =SUM(I30:I30) -> 0 | J29: =SUM(J30:J30) -> 0 | K29: =SUM(K30:K30) -> 0 | L29: =SUM(L30:L30) -> 0 | ... P29: =SUM(P30:P30) -> 241100
A30: 0919800 | B30: 9800 | C30: 0180 | D30: Субвенція з місцевого бюджету державному бюджету на виконання програм соціально-економічного розвитку регіонів | E30: =F30+I30 -> 241100 | F30: 241100 | J30: =L30+O30 -> 0 | P30: =E30+J30 -> 241100
A31: 1000000 | D31: Департамент культури Закарпатської обласної державної адміністрації | E31: =E32 -> 611000 | F31: =F32 -> 561000 | G31: =G32 -> 0 | H31: =H32 -> 0 | I31: =I32 -> 50000 | J31: =J32 -> 0 | K31: =K32 -> 0 | L31: =L32 -> 0 | ... P31: =P32 -> 611000
A32: 1010000 | D32: Департамент культури Закарпатської обласної державної адміністрації | E32: =SUM(E33:E33) -> 611000 | F32: =SUM(F33:F33) -> 561000 | G32: =SUM(G33:G33) -> 0 | H32: =SUM(H33:H33) -> 0 | I32: =SUM(I33:I33) -> 50000 | J32: =SUM(J33:J33) -> 0 | K32: =SUM(K33:K33) -> 0 | L32: =SUM(L33:L33) -> 0 | ... P32: =SUM(P33:P33) -> 611000
A33: 1019800 | B33: 9800 | C33: 0180 | D33: Субвенція з місцевого бюджету державному бюджету на виконання програм соціально-економічного розвитку регіонів | E33: =F33+I33 -> 611000 | F33: 561000 | I33: 50000 | J33: =L33+O33 -> 0 | P33: =E33+J33 -> 611000
A34: 1200000 | D34: Управління житлово-комунального господарства та енергозбереження Закарпатської обласної державної адміністрації | E34: =E35 -> 212800 | F34: =F35 -> 212800 | G34: =G35 -> 0 | H34: =H35 -> 0 | I34: =I35 -> 0 | J34: =J35 -> 0 | K34: =K35 -> 0 | L34: =L35 -> 0 | ... P34: =P35 -> 212800
A35: 1210000 | D35: Управління житлово-комунального господарства та енергозбереження Закарпатської обласної державної адміністрації | E35: =SUM(E36:E36) -> 212800 | F35: =SUM(F36:F36) -> 212800 | G35: =SUM(G36:G36) -> 0 | H35: =SUM(H36:H36) -> 0 | I35: =SUM(I36:I36) -> 0 | J35: =SUM(J36:J36) -> 0 | K35: =SUM(K36:K36) -> 0 | L35: =SUM(L36:L36) -> 0 | ... P35: =SUM(P36:P36) -> 212800
A36: 1219800 | B36: 9800 | C36: 0180 | D36: Субвенція з місцевого бюджету державному бюджету на виконання програм соціально-економічного розвитку регіонів | E36: =F36+I36 -> 212800 | F36: 212800 | J36: =L36+O36 -> 0 | P36: =E36+J36 -> 212800
A37: 1600000 | D37: Управлiння мiстобудування та архiтектури Закарпатської обласної державної адмiнiстрацiї | E37: =E38 -> 302400 | F37: =F38 -> 302400 | G37: =G38 -> 0 | H37: =H38 -> 0 | I37: =I38 -> 0 | J37: =J38 -> 0 | K37: =K38 -> 0 | L37: =L38 -> 0 | ... P37: =P38 -> 302400
A38: 1610000 | D38: Управлiння мiстобудування та архiтектури Закарпатської обласної державної адмiнiстрацiї | E38: =E39 -> 302400 | F38: =F39 -> 302400 | G38: =G39 -> 0 | H38: =H39 -> 0 | I38: =I39 -> 0 | J38: =J39 -> 0 | K38: =K39 -> 0 | L38: =L39 -> 0 | ... P38: =P39 -> 302400
A39: 1619800 | B39: 9800 | C39: 0180 | D39: Субвенція з місцевого бюджету державному бюджету на виконання програм соціально-економічного розвитку регіонів | E39: =F39+I39 -> 302400 | F39: 302400 | J39: =L39+O39 -> 0 | P39: =E39+J39 -> 302400
A40: 1900000 | D40: Департамент інфраструктури, розвитку і утримання мережі автомобільних доріг загального користування місцевого значення Закарпатської обласної державної адмiнiстрацiї | E40: =E41 -> 398600 | F40: =F41 -> 398600 | G40: =G41 -> 0 | H40: =H41 -> 0 | I40: =I41 -> 0 | J40: =J41 -> 0 | K40: =K41 -> 0 | L40: =L41 -> 0 | ... P40: =P41 -> 398600
A41: 1910000 | D41: Департамент інфраструктури, розвитку і утримання мережі автомобільних доріг загального користування місцевого значення Закарпатської обласної державної адмiнiстрацiї | E41: =SUM(E42:E42) -> 398600 | F41: =SUM(F42:F42) -> 398600 | G41: =SUM(G42:G42) -> 0 | H41: =SUM(H42:H42) -> 0 | I41: =SUM(I42:I42) -> 0 | J41: =SUM(J42:J42) -> 0 | K41: =SUM(K42:K42) -> 0 | L41: =SUM(L42:L42) -> 0 | ... P41: =SUM(P42:P42) -> 398600
A42: 1919800 | B42: 9800 | C42: 0180 | D42: Субвенція з місцевого бюджету державному бюджету на виконання програм соціально-економічного розвитку регіонів | E42: =F42+I42 -> 398600 | F42: 398600 | J42: =L42+O42 -> 0 | P42: =E42+J42 -> 398600
A43: 2000000 | D43: Управління цифрового розвитку, цифрових трансформацій і цифровізації Закарпатської обласної державної адміністрації | E43: =E44 -> 208800 | F43: =F44 -> 208800 | G43: =G44 -> 0 | H43: =H44 -> 0 | I43: =I44 -> 0 | J43: =J44 -> 0 | K43: =K44 -> 0 | L43: =L44 -> 0 | ... P43: =P44 -> 208800
...

Sheet дод 4 кред
O1: Додаток 4
O2: до розпорядження
O3: 16.10.2026 №734
A5: Зміни до додатка 4 розпорядження голови обласної державної адміністрації-начальника обласної військової адміністрації від 18.12.2025 № 878 „Про обласний бюджет на 2026 рік” – „Кредитування обласного бюджету у 2026 році”
A6: 0710000000
A7: (код бюджету) | P7: (грн.)
A8: Код Програмної класифікації видатків та кредитування місцевого бюджету | B8: Код Типової програмної класифікації видатків та кредитування місцевого бюджету | C8: Код Функціональної класифікації видатків та кредитування бюджету | D8: Найменування головного розпорядника коштів місцевого бюджету/ відповідального виконавця, найменування бюджетної програми згідно з Типовою програмною класифікацією видатків та кредитування місцевого бюджету | E8: Надання кредитів | I8: Повернення кредитів | M8: Кредитування, усього
E9: загальний фонд | F9: спеціальний фонд | H9: разом | I9: загальний фонд | J9: спеціальний фонд | L9: разом | M9: загальний фонд | N9: спеціальний фонд | P9: разом
F10: усього | G10: у тому числі бюджет розвитку | J10: усього | K10: у тому числі бюджет розвитку | N10: усього | O10: у тому числі бюджет розвитку
A12: 1 | B12: 2 | C12: 3 | D12: 4 | E12: 5 | F12: 6 | G12: 7 | H12: 8 | I12: 9 | J12: 10 | K12: 11 | L12: 12 | M12: 13 | N12: 14 | O12: 15 | P12: 16
A13: 2700000 | D13: Департамент економічного та регіонального розвитку Закарпатської обласної державної адміністрації | E13: =E14 -> 12000000 | F13: =F14 -> 28001489 | G13: =G14 -> 0 | H13: =H14 -> 40001489 | I13: =I14 -> 0 | J13: =J14 -> -24360500 | K13: =K14 -> 0 | L13: =L14 -> -24360500 | ... P13: =P14 -> 15640989
A14: 2710000 | D14: Департамент економічного та регіонального розвитку Закарпатської обласної державної адміністрації | E14: 12000000 | F14: =25401489+2600000 -> 28001489 | G14: 0 | H14: =37401489+2600000 -> 40001489 | I14: 0 | J14: =-21760500-2600000 -> -24360500 | K14: 0 | L14: =-21760500-2600000 -> -24360500 | M14: 12000000 | N14: 3640989 | O14: 0 | P14: 15640989
A15: 2718831 | B15: 8831 | C15: 1060 | D15: Надання довгострокових кредитів індивідуальним забудовникам житла на селі | E15: 12000000 | F15: =14400000+2600000 -> 17000000 | G15: 0 | H15: =E15+F15 -> 29000000 | I15: 0 | J15: 0 | K15: 0 | L15: 0 | M15: 12000000 | N15: =14400000+2600000 -> 17000000 | O15: 0 | P15: =26400000+2600000 -> 29000000
A16: 2718832 | B16: 8832 | C16: 1060 | D16: Повернення довгострокових кредитів, наданих індивідуальним забудовникам житла на селі | E16: 0 | F16: 0 | G16: 0 | H16: 0 | I16: 0 | J16: =-14400000-2600000 -> -17000000 | K16: 0 | L16: =-14400000-2600000 -> -17000000 | M16: 0 | N16: =-14400000-2600000 -> -17000000 | O16: 0 | P16: =-14400000-2600000 -> -17000000
A17: Х | B17: Х | C17: Х | D17: УСЬОГО | E17: 12000000 | F17: =25401489+2600000 -> 28001489 | G17: 0 | H17: =37401489+2600000 -> 40001489 | I17: 0 | J17: =-21760500-2600000 -> -24360500 | K17: 0 | L17: =-21760500-2600000 -> -24360500 | M17: 12000000 | N17: 3640989 | O17: 0 | P17: 15640989
B20: Директор департаменту фінансів Закарпатської обласної державної адміністрації - обласної військової адміністрації | L20: Петро ЛАЗАР

Sheet дод.5 трансф
C1: Додаток 5
C2: до розпорядження
C3: 16.10.2026 №734
A4: Зміни до міжбюджетних трансфертів на 2026 рік
A5: 0710000000 (код бюджету)
A6: 1. Зміни до показників міжбюджетних трансфертів з інших бюджетів
D7: (грн)
A8: Код Класифікації доходу бюджету/Код бюджету | B8: Найменування тансферту/Найменування бюджету-надавача міжбюджетного трансферту | D8: Усього
A9: 1 | B9: 2 | D9: 3
A10: І. Трансферти до загального фонду бюджету
A11: 41032300 | B11: Субвенція з державного бюджету місцевим бюджетам на формування фондів житла для тимчасового проживання або підтриманого проживання евакуйованих та внутрішньо переміщених осіб і заходів щодо забезпечення їх житлом у сільській місцевості | D11: 85497488
A12: 41036300 | B12: Субвенція з державного бюджету місцевим бюджетам на здійснення доплат педагогічним працівникам закладів загальної середньої освіти | D12: -638000
A13: 9900000000 | B13: Державний бюджет | D13: =D12+D11 -> 84859488
A14: 41040400 | B14: Інші дотації з місцевого бюджету (на реалізацію заходів ветеранської політики) | D14: =SUM(D15:D15) -> 700000
A15: 0750300000 | B15: Бюджет Полянської сiльської територiальної громади | D15: 700000
A16: 41053900 | B16: Інші субвенції з місцевого бюджету | D16: =D17 -> 100000
A17: 0753800000 | B17: Бюджет Iвановецької сiльської територiальної громади (на матеріально-технічне забезпечення комунальної установи "Закарпатський центр підготовки населення до національного спротиву" для проведення заходів із підготовки населення до національного спротиву) | D17: 100000
A18: ІІ. Трансферти до спеціального фонду бюджету
A19: 41053400 | B19: Субвенція з місцевого бюджету на підготовку та реалізацію публічних інвестиційних проектів / програм публічних інвестицій (Капітальний ремонт фасаду та даху будівлі Кольчинського ЗЗСО І-ІІІ ст. за адресою: Закарпатська область, Мукачівський район, селище Кольчино, вул. Фрідєшівська,16) | D19: =SUM(D20:D20) -> 6000000
A20: 0754000000 | B20: Бюджет Кольчинської селищної територіальної громади | D20: 6000000
A21: Х | B21: УСЬОГО за розділами І, ІІ, у тому числі: | D21: =D22+D23 -> 91659488
A22: Х | B22: загальний фонд | D22: =D13+D15+D17 -> 85659488
A23: Х | B23: спеціальний фонд | D23: =D19 -> 6000000
A25: 2. Зміни до показників міжбюджетних трансфертів іншим бюджетам
D26: (грн)
A27: Код Програмної класифікації видатків та кредитування місцевого бюджету/Код бюджету | B27: Код Типової програмної класифікації видатків та кредитування місцевого бюджету | C27: Найменування трансферту/Найменування бюджету-отримувача міжбюджетного трансферту | D27: Усього
A28: 1 | B28: 2 | C28: 3 | D28: 4
A29: І. Трансферти із загального фонду бюджету
A30: 3719150 | B30: 9150 | C30: Інші дотації з місцевого бюджету (на оплату праці з нарахуваннями педагогічних і науково-педагогічних працівників, а також працівників надавачів соціальних і реабілітаційних послуг) | D30: =D31 -> -12000000
A31: 0710000000 | B31: 9150 | C31: Обласний бюджет | D31: -12000000
A32: 0619360 | B32: 9360 | C32: Субвенція з місцевого бюджету на реалізацію публічного інвестиційного проекту на забезпечення якісної, сучасної та доступної загальної середньої освіти „Нова українська школа” за рахунок відповідної субвенції з державного бюджету | D32: =SUM(D33:D35) -> 0
A33: 0710000000 | B33: 9360 | C33: Обласний бюджет (нерозподілений обсяг) | D33: =-700000-1459800 -> -2159800
A34: 0753100000 | B34: 9360 | C34: Бюджет Вишкiвської селищної територiальної громади (Облаштування осередку з викладання навчального предмета „Захист України” у Вишківському ліцеї № 1 Вишківської селищної ради Хустського району Закарпатської області) | D34: 1459800
A35: 755900000 | B35: 9360 | C35: Бюджет Ужгородської мiської територiальної громади (Облаштування осередку з викладання навчального предмета „Захист України” в Ужгородському ліцеї „Лідер” Ужгородської міської ради Закарпатської області ) | D35: 700000
A36: 1219535 | B36: 9535 | C36: Субвенція з місцевого бюджету на формування фондів житла для тимчасового проживання або підтриманого проживання евакуйованих та внутрішньо переміщених осіб і заходів щодо забезпечення їх житлом у сільській місцевості за рахунок відповідної субвенції з державного бюджету | D36: =D38+D37 -> 85497488
A37: 0752200000 | B37: 9535 | C37: Бюджет Буштинської селищної територіальної громади | D37: 64497488
A38: 0755000000 | B38: 9535 | C38: Бюджет Свалявської мiської територiальної громади | D38: 21000000
A39: 3719770 | B39: 9770 | C39: Інші субвенції з місцевого бюджету- всього, у тому числі: | D39: =D40+D47+D48 -> 4700000
A40: 3719770 | B40: 9770 | C40: Інші субвенції з місцевого бюджету (На забезпечення видатками районних рад, спрямованих на їх утримання) | D40: =SUM(D41:D46) -> 1800000
A41: 0730120000 | B41: 9770 | C41: Районний бюджет Берегівського району | D41: 300000
...

Sheet дод 6 публ ін 
M1: Додаток 6
M2: до розпорядження
M3: 16.10.2026 №734
B4: Нова редакція додатку 6 до розпорядження голови обласної державної адміністрації-начальника обласної військової адміністрації від 18.12.2025 № 878 „Про обласний бюджет на 2026 рік” – „Обсяги публічних інвестицій у розрізі публічних інвестиційних проєктів та програм публічних інвестицій у 2026 році”
B5: 0710000000
B6: (код бюджету) | O6: (грн)
B7: № з/п | C7: Найменування галузі (сектору) для публічного інвестування / публічного інвестиційного проєкту / програми публічних інвестицій | D7: Унікальний ідентифікатор проєкту / програми | E7: Код Програмної класифікації видатків та кредитування місцевого бюджету | F7: Найменування бюджетної програми згідно з Типовою програмною класифікацією видатків та кредитування місцевого бюджету | G7: Найменування відповідального головного розпорядника коштів місцевого бюджету за галузь (сектор) / головного розпорядника коштів місцевого бюджету / відповідального виконавця | H7: Період реалізації публічного інвестиційного проєкту / програми публічних інвестицій (рік початку і завершення) | I7: Загальна вартість публічного інвестиційного проєкту / програми публічних інвестицій | J7: Обсяг бюджетних коштів, спрямованих на реалізацію публічного інвестиційного проєкту / програми публічних інвестицій у 2026 році | K7: у тому числі за рахунок:
K8: коштів місцевого бюджету | L8: міжбюджетних трансфертів з державного бюджету | M8: міжбюджетних трансфертів з інших місцевих бюджетів | N8: місцевих запозичень | O8: інших джерел
B9: 1 | C9: 2 | D9: 3 | E9: 4 | F9: 5 | G9: 6 | H9: 7 | I9: 8 | J9: 9 | K9: 10 | L9: 11 | M9: 12 | N9: 13 | O9: 14
A10: 1 | B10: 1 | C10: Освіта і наука | D10: X | E10: X | F10: X | G10: Закарпатська обласна рада | H10: X | I10: X | J10: =J11+J13+J16+J18 -> 191921600 | K10: =K11+K13+K16+K18 -> 19323300 | L10: =L11+L13+L16+L18 -> 0 | M10: =M11+M13+M16+M18 -> 172598300 | N10: =N11+N13+N16+N18 -> 0 | O10: =O11+O13+O16+O18 -> 0
B11: 1.1 | C11: Капітальний ремонт спального корпусу літ. Б Ужгородського наукового ліцею Закарпатської обласної ради за адресою: вул. Загорська 28, м. Ужгород» | D11: 270226-9D7EEBAE | E11: X | F11: X | G11: Закарпатська обласна рада | H11: 2026-2028 | I11: 39300000 | J11: =J12 -> 11628000 | K11: =K12 -> 11628000 | L11: =L12 -> 0
B12: X | C12: X | D12: X | E12: 0121300 | F12: Підготовка та реалізація публічних інвестиційних проектів / програм публічних інвестицій за рахунок коштів місцевого бюджету в галузі освіти | G12: Комунальна установа „Управління спільною власністю територіальних громад” Закарпатської обласної ради | H12: X | I12: X | J12: =K12+L12+M12+N12+O12 -> 11628000 | K12: =1288000+10340000 -> 11628000
A13: 1 | B13: 1.2 | C13: Модернізація, зміцнення матеріально-технічної бази, розвиток інфраструктури закладів загальної середньої та дошкільної освіти Закарпатської області на 2026-2028 роки | D13: 271025-45AB6EA0 | E13: X | F13: X | G13: Закарпатська обласна рада | H13: 2026-2028 | I13: 400000000 | J13: =SUM(J14:J15) -> 172598300 | K13: =SUM(K14:K15) -> 0 | L13: =SUM(L14:L15) -> 0 | M13: =SUM(M14:M15) -> 172598300 | N13: =SUM(N14:N15) -> 0 | O13: =SUM(O14:O15) -> 0
A14: 0 | B14: X | C14: Будівництво блоків А, Б, В та котельні загальноосвітньої школи І-ІІІ ступенів по вул. Фрідєшівська, 16 в смт. Кольчино Мукачівського району Закарпатської області.” Коригування | D14: X | E14: 0121300 | F14: Підготовка та реалізація публічних інвестиційних проектів / програм публічних інвестицій за рахунок коштів місцевого бюджету в галузі освіти | G14: Комунальна установа „Управління спільною власністю територіальних громад” Закарпатської обласної ради | H14: X | I14: X | J14: =K14+L14+M14+N14+O14 -> 164998300 | K14: 0 | L14: 0 | M14: =30000000+36498300+5000000+8000000+6000000+70000000+4500000+5000000 -> 164998300 | N14: 0 | O14: 0
B15: X | C15: Капітальний ремонт фасаду та даху будівлі Кольчинського ЗЗСО І-ІІІ ст. за адресою: Закарпатська область, Мукачівський район, селище Кольчино, вул. Фрідєшівська,16 | D15: X | E15: 0121300 | F15: Підготовка та реалізація публічних інвестиційних проектів / програм публічних інвестицій за рахунок коштів місцевого бюджету в галузі освіти | G15: Комунальна установа „Управління спільною власністю територіальних громад” Закарпатської обласної ради | H15: X | I15: X | J15: =K15+L15+M15+N15+O15 -> 7600000 | L15: 0 | M15: =1600000+6000000 -> 7600000 | N15: 0 | O15: 0
B16: 1.3 | C16: Капітальний ремонт фасаду з облаштуванням прилеглої території гуртожитку літери А за адресою:вул.Лева,11 в м.Берегово | D16: 260226-89FCB98F | E16: X | F16: X | G16: Закарпатська обласна рада | H16: 2025-2026 | I16: 7885049 | J16: =J17 -> 500000 | K16: =K17 -> 500000 | L16: =L17 -> 0 | M16: =M17 -> 0 | N16: =N17 -> 0 | O16: =O17 -> 0
B17: X | C17: X | D17: X | E17: 0121300 | F17: Підготовка та реалізація публічних інвестиційних проектів / програм публічних інвестицій за рахунок коштів місцевого бюджету в галузі освіти | G17: Комунальна установа „Управління спільною власністю територіальних громад” Закарпатської обласної ради | H17: X | I17: X | J17: =K17+L17+M17+N17+O17 -> 500000 | K17: 500000
B18: 1.4 | C18: Капітальний ремонт фасаду гуртожитку та прилеглої території за адресою: вул.Томаша Масарика 11а, м.Хуст, Закарпатська область | D18: 270226-65755FAF | E18: X | F18: X | G18: Закарпатська обласна рада | H18: 2025-2026 | I18: 18945331 | J18: =J19 -> 7195300 | K18: =K19 -> 7195300 | L18: =L19 -> 0 | M18: =M19 -> 0 | N18: =N19 -> 0 | O18: =O19 -> 0
B19: X | C19: X | D19: X | E19: 0126088 | F19: Співфінансування заходів, що реалізуються за рахунок субвенції з державного бюджету місцевим бюджетам на формування фондів житла для тимчасового проживання або підтриманого проживання евакуйованих та внутрішньо переміщених осіб і заходів щодо забезпечення їх житлом у сільській місцевості | G19: Комунальна установа „Управління спільною власністю територіальних громад” Закарпатської обласної ради | H19: X | I19: X | J19: =K19+L19+M19+N19+O19 -> 7195300 | K19: 7195300
A20: 1 | B20: 2 | C20: Охорона здоров`я | D20: X | E20: X | F20: X | G20: Закарпатська обласна рада | H20: X | I20: X | J20: =J21+J25+J27+J29+J31+J23 -> 17223730 | K20: =K21+K25+K27+K29+K31+K23 -> 17223730 | L20: =L21+L25+L27+L29+L31+L23 -> 0 | M20: =M21+M25+M27+M29+M31+M23 -> 0 | N20: =N21+N25+N27+N29+N31+N23 -> 0 | O20: =O21+O25+O27+O29+O31+O23 -> 0
A21: 1 | B21: 2.1 | C21: Капітальний ремонт із заміною вікон і дверей у будівлях літ. „А", „А'” та „Б”, що належать до майнового комплексу, розташованого за адресою: м. Ужгород, вул. Тімірязєва, 15А. Коригування | D21: 011025-D3FBE49A | E21: X | F21: X | G21: Закарпатська обласна рада | H21: 2026 | I21: 6408600 | J21: =J22 -> 6408600 | K21: =K22 -> 6408600 | L21: =L22 -> 0 | M21: =M22 -> 0 | N21: =N22 -> 0 | O21: =O22 -> 0
A22: 0 | B22: X | C22: X | D22: X | E22: 0122170 | F22: Підготовка та реалізація публічних інвестиційних проектів / програм публічних інвестицій за рахунок коштів місцевого бюджету в галузі охорони здоров`я | G22: Комунальна установа „Управління спільною власністю територіальних громад” Закарпатської обласної ради | H22: X | I22: X | J22: =K22+L22+M22+N22+O22 -> 6408600 | K22: 6408600 | L22: 0 | M22: 0 | N22: 0 | O22: 0
B23: 2.2 | C23: Реконструкція зовнішніх мереж та споруд водопостачання та каналізації з влаштуванням очисних споруд будівель КНП „Обласний заклад з надання психіатричної допомоги м.Берегова” ЗОР, за адресою: вул. Батозі,1, містечко Чікош, с.Яноші, Берегівського району | D23: 090326-135Е7СВ9 | E23: X | F23: X | G23: Закарпатська обласна рада | H23: 2026-2027 | I23: 34490486 | J23: =J24 -> 785300 | K23: =K24 -> 785300 | L23: =L24 -> 0 | M23: =M24 -> 0 | N23: =N24 -> 0 | O23: =O24 -> 0
B24: X | C24: X | D24: X | E24: 0122170 | F24: Підготовка та реалізація публічних інвестиційних проектів / програм публічних інвестицій за рахунок коштів місцевого бюджету в галузі охорони здоров`я | G24: Комунальна установа „Управління спільною власністю територіальних громад” Закарпатської обласної ради | H24: X | I24: X | J24: =K24+L24+M24+N24+O24 -> 785300 | K24: 785300
B25: 2.3 | C25: Капітальний ремонт I поверху літери „А” за адресою: вулиця Сергія Мартина, 2 в м.Ужгород. Коригування | D25: 271225-28E42EA0 | E25: X | F25: X | G25: Закарпатська обласна рада | H25: 2026-2027 | I25: 13113135 | J25: =K25 -> 3000000 | K25: 3000000
B26: X | C26: X | D26: X | E26: 0122170 | F26: Підготовка та реалізація публічних інвестиційних проектів / програм публічних інвестицій за рахунок коштів місцевого бюджету в галузі охорони здоров`я | G26: Комунальна установа „Управління спільною власністю територіальних громад” Закарпатської обласної ради | H26: X | I26: X | J26: =K26+L26+M26+N26+O26 -> 3000000 | K26: 3000000
B27: 2.4 | C27: Капітальний ремонт котельні та системи опалення КНП „Обласний заклад з надання психіатричної допомоги м.Берегова” за адресою: вулиця Сергія Мартина, 2 в м.Ужгород | D27: 221225-ECF98A51 | E27: X | F27: X | G27: Закарпатська обласна рада | H27: 2026-2027 | I27: 6660101 | J27: =J28 -> 1812900 | K27: =K28 -> 1812900 | L27: =L28 -> 0
B28: X | C28: X | D28: X | E28: 0122170 | F28: Підготовка та реалізація публічних інвестиційних проектів / програм публічних інвестицій за рахунок коштів місцевого бюджету в галузі охорони здоров`я | G28: Комунальна установа „Управління спільною власністю територіальних громад” Закарпатської обласної ради | H28: X | I28: X | J28: =K28+L28+M28+N28+O28 -> 1812900 | K28: 1812900
B29: 2.5 | C29: Капітальний ремонт внутрішніх мереж водопостачання котельні літери „Е”, зовнішніх мереж водопостачання та опалення за адресою: вул. Тімірязева, 15а в м. Ужгород.Коригування | D29: 240226-4DA6DBFD | E29: X | F29: X | G29: Закарпатська обласна рада | H29: 2026-2028 | I29: 3526844 | J29: =J30 -> 216930.09 | K29: =K30 -> 216930.09 | L29: =L30 -> 0 | M29: =M30 -> 0 | N29: =N30 -> 0
B30: X | C30: X | D30: X | E30: 0122170 | F30: Підготовка та реалізація публічних інвестиційних проектів / програм публічних інвестицій за рахунок коштів місцевого бюджету в галузі охорони здоров`я | G30: Комунальна установа „Управління спільною власністю територіальних громад” Закарпатської обласної ради | H30: X | I30: X | J30: =K30+L30+M30+N30+O30 -> 216930.09 | K30: =353100-136169.91 -> 216930.09
B31: 2.6 | C31: Нове будівництво лікувального корпусу КНП „Обласний клінічний фтизіопульмонологічний лікувально-діагностичний центр" Закарпатської обласної ради, за адресою: вул. Залізнична 14, с. Нижня Апша, Тячівського району, Закарпатської області (завершення будівництва)» | D31: 050326-DA9B5356 | E31: X | F31: X | G31: Закарпатська обласна рада | H31: 2026-2027 | I31: 8450000 | J31: =J32 -> 5000000 | K31: =K32 -> 5000000
B32: X | C32: X | D32: X | E32: 0122170 | F32: Підготовка та реалізація публічних інвестиційних проектів / програм публічних інвестицій за рахунок коштів місцевого бюджету в галузі охорони здоров`я | G32: Комунальна установа „Управління спільною власністю територіальних громад” Закарпатської обласної ради | H32: X | I32: X | J32: =K32+L32+M32+N32+O32 -> 5000000 | K32: 5000000
B33: 3 | C33: Культура та інформація | D33: X | E33: X | F33: X | G33: Закарпатська обласна рада | H33: X | I33: X | J33: =J34+J36 -> 5252700 | K33: =K34+K36 -> 5252700 | L33: =L34+L36 -> 0 | M33: =M34+M36 -> 0
B34: 3.1 | C34: Капітальний ремонт внутрішніх мереж водопостачання, водовідвення та електропостачання(частковий) гуртожитку Комунального закладу вищої освіти „Академія культури і мистецтв” Закарпатської обласної ради по вулиці Минайська 38/80 в м. Ужгород для розміщення внутрішньопереміщених та/або евакуйованих осіб | D34: 020326-BC466D2A | E34: X | F34: X | G34: Закарпатська обласна рада | H34: 2026-2027 | I34: 7354450 | J34: =J35 -> 2052700 | K34: =K35 -> 2052700 | L34: =L35 -> 0 | M34: =M35 -> 0 | N34: =N35 -> 0
B35: X | C35: X | D35: X | E35: 0124083 | F35: Підготовка та реалізація публічних інвестиційних проектів / програм публічних інвестицій за рахунок коштів місцевого бюджету в галузі культури і мистецтва | G35: Комунальна установа „Управління спільною власністю територіальних громад” Закарпатської обласної ради | H35: X | I35: X | J35: =K35+L35+M35+N35+O35 -> 2052700 | K35: 2052700
B36: 3.2 | C36: Капітальний ремонт котельні Комунального закладу вищої освіти „Академія культури і мистецтв” Закарпатської обласної ради по вул. Минайська 38/80 в м. Ужгород | D36: 020326-9830AA9E | E36: X | F36: X | G36: Закарпатська обласна рада | H36: 2026 | I36: 8983534 | J36: =J37 -> 3200000 | K36: =K37 -> 3200000 | L36: =L37 -> 0 | M36: =M37 -> 0
B37: X | C37: X | D37: X | E37: 0124083 | F37: Підготовка та реалізація публічних інвестиційних проектів / програм публічних інвестицій за рахунок коштів місцевого бюджету в галузі культури і мистецтва | G37: Комунальна установа „Управління спільною власністю територіальних громад” Закарпатської обласної ради | H37: X | I37: X | J37: =K37+L37+M37+N37+O37 -> 3200000 | K37: =1000000+2200000 -> 3200000
B38: 4 | C38: Спорт та фізичне виховання | D38: X | E38: X | F38: X | G38: Закарпатська обласна рада | H38: X | I38: X | J38: =J39+J41 -> 17023200 | K38: =K39+K41 -> 17023200 | L38: =L39+L41 -> 0 | M38: =M39+M41 -> 0
B39: 4.1 | C39: Реконструкція будівель та споруд об'єктів спортивної інфраструктури розташованих за адресою: місто Ужгород, вулиця Заньковецької, будинок 5. 1 черга: Реконструкція ігрового спортивного залу №1. Коригування | D39: 260226-AD0B28D0 | E39: X | F39: X | G39: Закарпатська обласна рада | H39: 2026-2028 | I39: 33363073 | J39: =J40 -> 3536000 | K39: =K40 -> 3536000 | L39: =L40 -> 0 | M39: =M40 -> 0 | N39: =N40 -> 0
B40: X | C40: X | D40: X | E40: 0125070 | F40: Підготовка та реалізація публічних інвестиційних проектів / програм публічних інвестицій за рахунок коштів місцевого бюджету в галузі фізичної культури і спорту | G40: Комунальна установа „Управління спільною власністю територіальних громад” Закарпатської обласної ради | H40: X | I40: X | J40: =K40+L40+M40+N40+O40 -> 3536000 | K40: 3536000
...

Sheet дод 6.1 публ ін  
M1: Додаток 6.1
M2: до розпорядження
M3: 16.10.2026 №734
B4: Зміни до обсягу публічних інвестицій у розрізі публічних інвестиційних проєктів та програм публічних інвестицій у 2026 році”
B5: 0710000000
B6: (код бюджету) | O6: (грн)
B7: № з/п | C7: Найменування галузі (сектору) для публічного інвестування / публічного інвестиційного проєкту / програми публічних інвестицій | D7: Унікальний ідентифікатор проєкту / програми | E7: Код Програмної класифікації видатків та кредитування місцевого бюджету | F7: Найменування бюджетної програми згідно з Типовою програмною класифікацією видатків та кредитування місцевого бюджету | G7: Найменування відповідального головного розпорядника коштів місцевого бюджету за галузь (сектор) / головного розпорядника коштів місцевого бюджету / відповідального виконавця | H7: Період реалізації публічного інвестиційного проєкту / програми публічних інвестицій (рік початку і завершення) | I7: Загальна вартість публічного інвестиційного проєкту / програми публічних інвестицій | J7: Обсяг бюджетних коштів, спрямованих на реалізацію публічного інвестиційного проєкту / програми публічних інвестицій у 2026 році | K7: у тому числі за рахунок:
K8: коштів місцевого бюджету | L8: міжбюджетних трансфертів з державного бюджету | M8: міжбюджетних трансфертів з інших місцевих бюджетів | N8: місцевих запозичень | O8: інших джерел
B9: 1 | C9: 2 | D9: 3 | E9: 4 | F9: 5 | G9: 6 | H9: 7 | I9: 8 | J9: 9 | K9: 10 | L9: 11 | M9: 12 | N9: 13 | O9: 14
A10: 1 | B10: 1 | C10: Освіта і наука | D10: X | E10: X | F10: X | G10: Закарпатська обласна рада | H10: X | I10: X | J10: =J11 -> 6000000 | K10: =K11 -> 0 | L10: =L11 -> 0 | M10: =M11 -> 6000000 | N10: =N11 -> 0 | O10: =O11 -> 0
A11: 1 | B11: 1.1 | C11: Модернізація, зміцнення матеріально-технічної бази, розвиток інфраструктури закладів загальної середньої та дошкільної освіти Закарпатської області на 2026-2028 роки | D11: 271025-45AB6EA0 | E11: X | F11: X | G11: Закарпатська обласна рада | H11: 2026-2028 | I11: 400000000 | J11: =SUM(J12:J12) -> 6000000 | K11: =SUM(K12:K12) -> 0 | L11: =SUM(L12:L12) -> 0 | M11: =SUM(M12:M12) -> 6000000 | N11: =SUM(N12:N12) -> 0 | O11: =SUM(O12:O12) -> 0
B12: X | C12: Капітальний ремонт фасаду та даху будівлі Кольчинського ЗЗСО І-ІІІ ст. за адресою: Закарпатська область, Мукачівський район, селище Кольчино, вул. Фрідєшівська,16 | D12: X | E12: 0121300 | F12: Підготовка та реалізація публічних інвестиційних проектів / програм публічних інвестицій за рахунок коштів місцевого бюджету в галузі освіти | G12: Комунальна установа „Управління спільною власністю територіальних громад” Закарпатської обласної ради | H12: X | I12: X | J12: =K12+L12+M12+N12+O12 -> 6000000 | L12: 0 | M12: 6000000 | N12: 0 | O12: 0
A13: 1 | B13: 2 | C13: Освіта і наука | D13: X | E13: X | F13: X | G13: Департамент освіти і науки, молоді та спорту Закарпатської обласної державної адміністрації | H13: X | I13: X | J13: =J14+J16+J18+J20+J22+J24+J26 -> -3962684 | K13: =K14+K16+K18+K20+K22+K24+K26 -> -3962684 | L13: =L14+L16+L18+L20+L22+L24+L26 -> 0 | M13: =M14+M16+M18+M20+M22+M24+M26 -> 0 | N13: =N14+N16+N18+N20+N22+N24+N26 -> 0 | O13: =O14+O16+O18+O20+O22+O24+O26 -> 0
B14: 2.1 | C14: Закупівля шкільних автобусів для забезпечення безперешкодного доступу до освіти - Закарпатської області | D14: 210526-9510Е79Е | E14: X | F14: X | G14: Департамент освіти і науки, молоді та спорту Закарпатської обласної державної адміністрації | H14: 2026 | I14: 100347000 | J14: =J15 -> -562000 | K14: =K15 -> -562000 | L14: =L15 -> 0 | M14: =M15 -> 0 | N14: =N15 -> 0 | O14: =O15 -> 0
B15: X | C15: X | D15: X | E15: 0611251 | F15: Співфінансування заходів, що реалізуються за рахунок субвенції з державного бюджету місцевим бюджетам на реалізацію публічного інвестиційного проекту на безперешкодний доступ до якісної освіти – шкільні автобуси | G15: Департамент освіти і науки, молоді та спорту Закарпатської обласної державної адміністрації | H15: X | I15: X | J15: =K15+M15 -> -562000 | K15: -562000
A16: 1 | B16: 2.2 | C16: Нове будівництво сверловини (з бурінням) Великоберезнянського ліцею з посиленою військово-фізичною підготовкою Закарпатської обласної ради (з виготовленням ПКД) за адресою: Ужгородський район, селище Великий Березний, вулиця Штефаника, 126 | D16: 201025-2F4D8649 | E16: X | F16: X | G16: Департамент освіти і науки, молоді та спорту Закарпатської обласної державної адміністрації | H16: 2026 | I16: 2670000 | J16: =J17 -> -270000 | K16: =K17 -> -270000 | L16: =L17 -> 0 | M16: =M17 -> 0 | N16: =N17 -> 0 | O16: =O17 -> 0
A17: 0 | B17: X | C17: X | D17: X | E17: 0611300 | F17: Підготовка та реалізація публічних інвестиційних проектів / програм публічних інвестицій за рахунок коштів місцевого бюджету в галузі освіти | G17: Департамент освіти і науки, молоді та спорту Закарпатської обласної державної адміністрації | H17: X | I17: X | J17: =K17+L17+M17+N17+O17 -> -270000 | K17: -270000 | L17: 0 | M17: 0 | N17: 0 | O17: 0
A18: 1 | B18: 2.3 | C18: Капітальний ремонт покрівлі Комунального закладу „Тячівський професійний ліцей” Закарпатської обласної ради за адресою: Закарпатська область, м. Тячів, вул.Нересенська, 32 | D18: 221025-6D149468 | E18: X | F18: X | G18: Департамент освіти і науки, молоді та спорту Закарпатської обласної державної адміністрації | H18: 2026 | I18: 4000000 | J18: =J19 -> -1452184 | K18: =K19 -> -1452184 | L18: =L19 -> 0 | M18: =M19 -> 0 | N18: =N19 -> 0 | O18: =O19 -> 0
A19: 0 | B19: X | C19: X | D19: X | E19: 0611300 | F19: Підготовка та реалізація публічних інвестиційних проектів / програм публічних інвестицій за рахунок коштів місцевого бюджету в галузі освіти | G19: Департамент освіти і науки, молоді та спорту Закарпатської обласної державної адміністрації | H19: X | I19: X | J19: =K19+L19+M19+N19+O19 -> -1452184 | K19: =-1452184 -> -1452184 | L19: 0 | M19: 0 | N19: 0 | O19: 0
A20: 1 | B20: 2.4 | C20: Реконструкція медпункту будівлі „Г” Великоберезнянського ліцею з посиленою військово-фізичною підготовкою Закарпатської обласної ради (з виготовленням ПКД) за адресою: Ужгородський район, селище Великий Березний, вулиця Штефаника, 126 | D20: 231025-7EDDA8FA | E20: X | F20: X | G20: Департамент освіти і науки, молоді та спорту Закарпатської обласної державної адміністрації | H20: 2026 | I20: 2150000 | J20: =J21 -> -250000 | K20: =K21 -> -250000 | L20: =L21 -> 0 | M20: =M21 -> 0 | N20: =N21 -> 0 | O20: =O21 -> 0
A21: 0 | B21: X | C21: X | D21: X | E21: 0611300 | F21: Підготовка та реалізація публічних інвестиційних проектів / програм публічних інвестицій за рахунок коштів місцевого бюджету в галузі освіти | G21: Департамент освіти і науки, молоді та спорту Закарпатської обласної державної адміністрації | H21: X | I21: X | J21: =K21+L21+M21+N21+O21 -> -250000 | K21: -250000 | L21: 0 | M21: 0 | N21: 0 | O21: 0
A22: 1 | B22: 2.5 | C22: Капітальний ремонт (благоустрій) території Великоберезнянського ліцею з посиленою військово-фізичною підготовкою Закарпатської обласної ради та влаштування спортивних майданчиків (з виготовленням ПКД) за адресою: Ужгородський район, селище Великий Березний, вулиця Штефаника,126 | D22: 241025-D536EAF4 | E22: X | F22: X | G22: Департамент освіти і науки, молоді та спорту Закарпатської обласної державної адміністрації | H22: 2026 | I22: 32800000 | J22: =J23 -> -2400000 | K22: =K23 -> -2400000 | L22: =L23 -> 0 | M22: =M23 -> 0 | N22: =N23 -> 0 | O22: =O23 -> 0
